BEGIN:VCALENDAR
VERSION:2.0
PRODID:-//AudioTheme 1.6.3
BEGIN:VEVENT
UID:http://sanglaser.com/?post_type=audiotheme_gig&#038;p=950
URL:https://sanglaser.com/live/altes-pfandhaus-koln/
DTSTART;TZID=GMT:20190414T170000
SUMMARY:San Glaser & Band Altes Pfandhaus Köln
DESCRIPTION:San Glaser & Band "The Great Grand Hotel" TOUR
LOCATION:Altes Pfandhaus\, Kartäuserwall 20  \, Köln\, \, Germany\, 50678
END:VEVENT
END:VCALENDAR