BEGIN:VCALENDAR
VERSION:2.0
PRODID:-//AudioTheme 1.6.3
BEGIN:VEVENT
UID:http://sanglaser.com/?post_type=audiotheme_gig&#038;p=712
URL:https://sanglaser.com/live/benefizkonzert-fur-hinz-und-kunzt/
DTSTART;TZID=GMT:20171217T180000
SUMMARY:Benefizkonzert für Hinz und Kunzt
DESCRIPTION:San Glaser Duo - Benefiz Abend Hinz und Kunzt 
LOCATION:St Pauli Kirche\, Pinnasberg 80\, Hamburg\, \, Germany\, 20359
END:VEVENT
END:VCALENDAR