BEGIN:VCALENDAR
VERSION:2.0
PRODID:-//AudioTheme 1.6.3
BEGIN:VEVENT
UID:https://sanglaser.com/?post_type=audiotheme_gig&#038;p=2220
URL:https://sanglaser.com/live/best-of-20-years-live-tour-2027/
DTSTART;TZID=GMT:20270206T190000
SUMMARY:Best of 20 Years live Tour 2027
DESCRIPTION:San & Band "Best of 20 Years" Tour - ed. 2027
LOCATION:Jazzclub Hannover\, Am Lindener Berge 38  \, Hannover\, \, 30449
END:VEVENT
END:VCALENDAR