BEGIN:VCALENDAR
VERSION:2.0
PRODID:-//AudioTheme 1.6.3
BEGIN:VEVENT
UID:https://sanglaser.com/?post_type=audiotheme_gig&#038;p=2209
URL:https://sanglaser.com/live/birdland-jazz-cruise/
DTSTART;TZID=GMT:20260627T173000
SUMMARY:Birdland & Elbreederei Rainer Abicht present: Jazz Cruise
DESCRIPTION:Birdland & Elbreederei Rainer Abicht present   San & Band "Best of 20 Years" Tour - ed. 2026
LOCATION:Jazz Cruise auf der Louisiana Hafenrundfahrt\, Sankt Pauli Landungsbrücken Brücke 10\, Hamburg\, \, Germany\, 20359
END:VEVENT
END:VCALENDAR