BEGIN:VCALENDAR
VERSION:2.0
PRODID:-//AudioTheme 1.6.3
BEGIN:VEVENT
UID:http://sanglaser.com/?post_type=audiotheme_gig&#038;p=1012
URL:https://sanglaser.com/live/gig-1012/
DTSTART;TZID=GMT:20190314T180000
SUMMARY:San Glaser & Band Kopfhörer live
DESCRIPTION:Otto Meyer präsentiert Rantastic-Kopfhörer live
LOCATION:Rantastic Kleinkunstbühne\,   Aschmattstr.2  \, Baden-Baden\, \, Germany\, 76532
END:VEVENT
END:VCALENDAR