BEGIN:VCALENDAR
VERSION:2.0
PRODID:-//AudioTheme 1.6.3
BEGIN:VEVENT
UID:http://sanglaser.com/?post_type=audiotheme_gig&#038;p=1018
URL:https://sanglaser.com/live/gig-1018/
DTSTART;TZID=GMT:20190801T160000
SUMMARY:San Glaser im Störtebeker Elbphilharmonie
DESCRIPTION:San Glaser & Band dinner & concert
LOCATION:Störtebeker Elbphilharmonie\, Platz der Deutschen Einheit 3  \, Hamburg\, \, Germany\, 20457 
END:VEVENT
END:VCALENDAR