BEGIN:VCALENDAR
VERSION:2.0
PRODID:-//AudioTheme 1.6.3
BEGIN:VEVENT
UID:http://sanglaser.com/?post_type=audiotheme_gig&#038;p=1058
URL:https://sanglaser.com/live/gig-1058/
DTSTART;TZID=GMT:20190516T180000
SUMMARY:San Glaser @ Parlament Braunschweig
DESCRIPTION:San Glaser und Arnd Geise zu Gast bei Solid Jazz
LOCATION:Parlament\, Hannoversche Straße 60b\, Braunschweig\, \, Germany\, 38116
END:VEVENT
END:VCALENDAR