BEGIN:VCALENDAR
VERSION:2.0
PRODID:-//AudioTheme 1.6.3
BEGIN:VEVENT
UID:http://sanglaser.com/?post_type=audiotheme_gig&#038;p=1110
URL:https://sanglaser.com/live/gig-1110/
DTSTART;TZID=GMT:20200112T100000
SUMMARY:San Glaser & Band beim Jazzfrühstück in Meinersen
DESCRIPTION:San Glaser & Band "The Great Grand Hotel" 
LOCATION:Kultur Verein Meinersen\, Am Eichenkamp 1\, Meinersen\, \, Deutschland\, 38536
END:VEVENT
END:VCALENDAR