BEGIN:VCALENDAR
VERSION:2.0
PRODID:-//AudioTheme 1.6.3
BEGIN:VEVENT
UID:http://sanglaser.com/?post_type=audiotheme_gig&#038;p=1112
URL:https://sanglaser.com/live/gig-1112/
DTSTART;TZID=GMT:20200118T200000
SUMMARY:San Glaser & Band Jazzclub Birdland
DESCRIPTION:San Glaser & Band "The Great Grand Hotel" 
LOCATION:Jazzclub Birdland\, Gärtnerstr.122    \, Hamburg\, \, Germany\, 20253
END:VEVENT
END:VCALENDAR