BEGIN:VCALENDAR
VERSION:2.0
PRODID:-//AudioTheme 1.6.3
BEGIN:VEVENT
UID:http://sanglaser.com/?post_type=audiotheme_gig&#038;p=1113
URL:https://sanglaser.com/live/gig-1113/
DTSTART;TZID=GMT:20191113T190000
SUMMARY:San Glaser & Band Musik in den Häusern der Stadt
DESCRIPTION:San Glaser & Band "The Great Grand Hotel"   AUSVERKAUFT!
LOCATION:PwC\, Alsterufer 1\, Hamburg\, \, Germany\, 20354
END:VEVENT
END:VCALENDAR