BEGIN:VCALENDAR
VERSION:2.0
PRODID:-//AudioTheme 1.6.3
BEGIN:VEVENT
UID:http://sanglaser.com/?post_type=audiotheme_gig&#038;p=1119
URL:https://sanglaser.com/live/gig-1119/
DTSTART;TZID=GMT:20190924T170000
SUMMARY:Solid Jazz feat. San Glaser and Arnd Geise
DESCRIPTION:Solid Jazz feat. San Glaser and Arnd Geise
LOCATION:Awilon\, Hollerplatz 1\, Wolfsburg\, \, Deutschland\, 38440
END:VEVENT
END:VCALENDAR