BEGIN:VCALENDAR
VERSION:2.0
PRODID:-//AudioTheme 1.6.3
BEGIN:VEVENT
UID:http://sanglaser.com/?post_type=audiotheme_gig&#038;p=1196
URL:https://sanglaser.com/live/gig-1196/
DTSTART;TZID=GMT:20200424T180000
SUMMARY:San Glaser Kulturhaus Osterfeld, Pforzheim
DESCRIPTION:San Glaser & Band "The Great Grand Hotel"
LOCATION:Kulturhaus Osterfeld\, Osterfeldstrasse 12 \, Pforzheim\, \, Germany\, 75172 
END:VEVENT
END:VCALENDAR