BEGIN:VCALENDAR
VERSION:2.0
PRODID:-//AudioTheme 1.6.3
BEGIN:VEVENT
UID:https://sanglaser.com/?post_type=audiotheme_gig&#038;p=2221
URL:https://sanglaser.com/live/gig-2221/
DTSTART;TZID=GMT:20270624T180000
SUMMARY:Schloss Landestrost
DESCRIPTION:San & Band "Best of 20 Years" Tour - ed. 2027
LOCATION:Schloss Landestrost\, Schlossstraße 1   \, Neustadt am Rübenberge\, \, Germany\, 31535
END:VEVENT
END:VCALENDAR