BEGIN:VCALENDAR
VERSION:2.0
PRODID:-//AudioTheme 1.6.3
BEGIN:VEVENT
UID:http://sanglaser.com/?post_type=audiotheme_gig&#038;p=716
URL:https://sanglaser.com/live/gig-716/
DTSTART;TZID=GMT:20180404T170000
SUMMARY:San Glaser Band Kursaal3 Sylt
DESCRIPTION:San Glaser Band TOUR
LOCATION:Kursaal 3\, KURSAAL³ IM "HAUS AM KLIFF"  Strandstraße 25  \, Wenningstedt-Braderup - Sylt\, \, Germany\, 25996 
END:VEVENT
END:VCALENDAR