BEGIN:VCALENDAR
VERSION:2.0
PRODID:-//AudioTheme 1.6.3
BEGIN:VEVENT
UID:http://sanglaser.com/?post_type=audiotheme_gig&#038;p=737
URL:https://sanglaser.com/live/gig-737/
DTSTART;TZID=GMT:20171231T200000
SUMMARY:Silvester in Travemünde
DESCRIPTION:San Glaser Quartett in der 73Bar
LOCATION:Maritim Seehotel Hotel Timmendorfer Strand\, Strandallee 73  \, Timmendorfer Strand\, \, Germany\, 23669 
END:VEVENT
END:VCALENDAR