BEGIN:VCALENDAR
VERSION:2.0
PRODID:-//AudioTheme 1.6.3
BEGIN:VEVENT
UID:http://sanglaser.com/?post_type=audiotheme_gig&#038;p=742
URL:https://sanglaser.com/live/gig-742/
DTSTART;TZID=GMT:20180419T180000
SUMMARY:San Glaser Band TOUR
DESCRIPTION:San Glaser Band TOUR
LOCATION:"Musik in der Scheune"\, Laurentiusstrasse 2      Kontakt       Laurentiusstrasse 2  \, Ziethen\, \, Germany\, 23911
END:VEVENT
END:VCALENDAR