BEGIN:VCALENDAR
VERSION:2.0
PRODID:-//AudioTheme 1.6.3
BEGIN:VEVENT
UID:http://sanglaser.com/?post_type=audiotheme_gig&#038;p=985
URL:https://sanglaser.com/live/gig-985/
DTSTART;TZID=GMT:20181201T203000
SUMMARY:San Glaser im Duo mit Johannes Wennrich
DESCRIPTION:San Glaser im Duo mit Johannes Wennrich (git)
LOCATION:Kaisergalerie\, Große Bleichen 23-27  \, Hamburg\, \, Germany\, 20354
END:VEVENT
END:VCALENDAR