BEGIN:VCALENDAR
VERSION:2.0
PRODID:-//AudioTheme 1.6.3
BEGIN:VEVENT
UID:https://sanglaser.com/?post_type=audiotheme_gig&#038;p=2236
URL:https://sanglaser.com/live/jazz-heroes-2026-san-glaser-mit-hermine-deurloo/
DTSTART;TZID=GMT:20261114T190000
SUMMARY:Jazz Heroes 2026 // San Glaser mit Hermine Deurloo
DESCRIPTION:San in concert im Rahmen des "Jazz Heroes" Programms der Jazz federation
LOCATION:JazzHall\, Harvestehuder Weg 12  \, Hamburg\, \, Germany\, 20148
END:VEVENT
END:VCALENDAR