BEGIN:VCALENDAR
VERSION:2.0
PRODID:-//AudioTheme 1.6.3
BEGIN:VEVENT
UID:http://sanglaser.com/?post_type=audiotheme_gig&#038;p=708
URL:https://sanglaser.com/live/jazzterdays-pilot/
DTSTART;TZID=GMT:20171029T180000
SUMMARY:"Jazzterdays" Eine Jazz Revue
DESCRIPTION:Jazz Revue "Jazzterdays"
LOCATION:Koralle Kino\, Kattjahren 1c\, Hamburg\, \, 22359
END:VEVENT
END:VCALENDAR