BEGIN:VCALENDAR
VERSION:2.0
PRODID:-//AudioTheme 1.6.3
BEGIN:VEVENT
UID:http://sanglaser.com/?post_type=audiotheme_gig&#038;p=934
URL:https://sanglaser.com/live/nacht-der-kirchen-st-pauli-projektchor-feat-san-glaser-leitung-tina-schneeweis/
DTSTART;TZID=GMT:20180915T170000
SUMMARY:Nacht der Kirchen St. Pauli Projektchor feat. San Glaser - Leitung: Tina Schneeweiß
DESCRIPTION:Nacht der Kirchen St. Pauli Projektchor feat. San Glaser 
LOCATION:St Pauli Kirche\, Pinnasberg 80\, Hamburg\, \, Germany\, 20359
END:VEVENT
END:VCALENDAR