BEGIN:VCALENDAR
VERSION:2.0
PRODID:-//AudioTheme 1.6.3
BEGIN:VEVENT
UID:http://sanglaser.com/?post_type=audiotheme_gig&#038;p=933
URL:https://sanglaser.com/live/san-glaser-arnd-geise-im-mojo-jazz-cafe/
DTSTART;TZID=GMT:20180726T190000
SUMMARY:San Glaser & Arnd Geise im Mojo Jazz Café
DESCRIPTION:im:pulse feat. San Glaser & Arnd Geise/bass
LOCATION:Mojo jazz café\, Reeperbahn 1\, Hamburg\, \, Germany\, 20359
END:VEVENT
END:VCALENDAR