BEGIN:VCALENDAR
VERSION:2.0
PRODID:-//AudioTheme 1.6.3
BEGIN:VEVENT
UID:http://sanglaser.com/?post_type=audiotheme_gig&#038;p=925
URL:https://sanglaser.com/live/san-glaser-band-7/
DTSTART;TZID=GMT:20180908T150000
SUMMARY:San Glaser & Band Windsor shop
DESCRIPTION:San Glaser Band "The Great Grand Hotel" TOUR
LOCATION:Windsor\, Am Wall 147\, Bremen\, \, Germany\, 28195
END:VEVENT
END:VCALENDAR