BEGIN:VCALENDAR
VERSION:2.0
PRODID:-//AudioTheme 1.6.3
BEGIN:VEVENT
UID:http://sanglaser.com/?post_type=audiotheme_gig&#038;p=1043
URL:https://sanglaser.com/live/san-glaser-band-8/
DTSTART;TZID=GMT:20190607T160000
SUMMARY:San Glaser & Band PfingstTON Scharbeutz
DESCRIPTION:San Glaser & Band "The Great Grand Hotel"
LOCATION:PfingstTON Scharbeutz\, Kurpark \, Scharbeutz\, \, Germany\, 23683
END:VEVENT
END:VCALENDAR