BEGIN:VCALENDAR
VERSION:2.0
PRODID:-//AudioTheme 1.6.3
BEGIN:VEVENT
UID:http://sanglaser.com/?post_type=audiotheme_gig&#038;p=932
URL:https://sanglaser.com/live/san-glaser-band-auf-gut-panker/
DTSTART;TZID=GMT:20180722T100000
SUMMARY:San Glaser & Band auf Gut Panker
DESCRIPTION:San Glaser & Band
LOCATION:Gut Panker\, 24321 Panker\, Panker\, \, Germany\, 24321 
END:VEVENT
END:VCALENDAR