BEGIN:VCALENDAR
VERSION:2.0
PRODID:-//AudioTheme 1.6.3
BEGIN:VEVENT
UID:http://sanglaser.com/?post_type=audiotheme_gig&#038;p=1224
URL:https://sanglaser.com/live/san-glaser-band-cvjm-lubeck/
DTSTART;TZID=GMT:20210129T190000
SUMMARY:San Glaser & Band CVJM Lübeck
DESCRIPTION:San Glaser & Band "The Great Grand Hotel"
LOCATION:CVJM Lübeck\,  Große Petersgrube 11  \, Lübeck\, \, Germany\, 23552
END:VEVENT
END:VCALENDAR