BEGIN:VCALENDAR
VERSION:2.0
PRODID:-//AudioTheme 1.6.3
BEGIN:VEVENT
UID:http://sanglaser.com/?post_type=audiotheme_gig&#038;p=719
URL:https://sanglaser.com/live/san-glaser-band-cvjm-tour/
DTSTART;TZID=GMT:20180427T183000
SUMMARY:San Glaser Band CVJM TOUR
DESCRIPTION:San Glaser Band TOUR
LOCATION:CVJM Lübeck\,  Große Petersgrube 11  \, Lübeck\, \, Germany\, 23552
END:VEVENT
END:VCALENDAR