BEGIN:VCALENDAR
VERSION:2.0
PRODID:-//AudioTheme 1.6.3
BEGIN:VEVENT
UID:http://sanglaser.com/?post_type=audiotheme_gig&#038;p=706
URL:https://sanglaser.com/live/san-glaser-band-grand-central-bremen/
DTSTART;TZID=GMT:20180405T180000
SUMMARY:San Glaser Band TOUR Grand Central Bremen
DESCRIPTION:San Glaser Band TOUR
LOCATION:Grand Central\, Rockwinkeler Heerstraße 42b\, Bremen\, \, Germany\, 28355
END:VEVENT
END:VCALENDAR