BEGIN:VCALENDAR
VERSION:2.0
PRODID:-//AudioTheme 1.6.3
BEGIN:VEVENT
UID:http://sanglaser.com/?post_type=audiotheme_gig&#038;p=1046
URL:https://sanglaser.com/live/san-glaser-band-gromitz/
DTSTART;TZID=GMT:20190721T130000
SUMMARY:San Glaser & Band Grömitz
DESCRIPTION:San Glaser & Band "The Great Grand Hotel"
LOCATION:"Künstler am Meer" Grömitz\, Promenade Grömitz\, Grömitz\, \, Germany\, 23743 
END:VEVENT
END:VCALENDAR