BEGIN:VCALENDAR
VERSION:2.0
PRODID:-//AudioTheme 1.6.3
BEGIN:VEVENT
UID:http://sanglaser.com/?post_type=audiotheme_gig&#038;p=1051
URL:https://sanglaser.com/live/san-glaser-band-haus-am-walde/
DTSTART;TZID=GMT:20190517T180000
SUMMARY:San Glaser & Band Haus am Walde
DESCRIPTION:San Glaser & Band "The Great Grand Hotel" 
LOCATION:Haus am Walde\, Kuhgrabenweg 2\, Bremen\, \, Germany\, 28359
END:VEVENT
END:VCALENDAR