BEGIN:VCALENDAR
VERSION:2.0
PRODID:-//AudioTheme 1.6.3
BEGIN:VEVENT
UID:http://sanglaser.com/?post_type=audiotheme_gig&#038;p=1215
URL:https://sanglaser.com/live/san-glaser-band-hotjazzclub-munster-3/
DTSTART;TZID=GMT:20200918T180000
SUMMARY:San Glaser & Band Hotjazzclub Münster
DESCRIPTION:San Glaser & Band "The Great Grand Hotel" WIRD VERSCHOBEN!
LOCATION:Hot Jazzclub\, Hafenweg 26B\, Münster\, \, Germany\, 48155
END:VEVENT
END:VCALENDAR