BEGIN:VCALENDAR
VERSION:2.0
PRODID:-//AudioTheme 1.6.3
BEGIN:VEVENT
UID:http://sanglaser.com/?post_type=audiotheme_gig&#038;p=718
URL:https://sanglaser.com/live/san-glaser-band-im-birdland-tour/
DTSTART;TZID=GMT:20180331T190000
SUMMARY:San Glaser Band im Birdland TOUR
DESCRIPTION:San Glaser Band TOUR
LOCATION:Jazzclub Birdland\, Gärtnerstr.122    \, Hamburg\, \, Germany\, 20253
END:VEVENT
END:VCALENDAR