BEGIN:VCALENDAR
VERSION:2.0
PRODID:-//AudioTheme 1.6.3
BEGIN:VEVENT
UID:http://sanglaser.com/?post_type=audiotheme_gig&#038;p=809
URL:https://sanglaser.com/live/san-glaser-band-im-grandhotel-heiligendamm/
DTSTART;TZID=GMT:20181229T190000
SUMMARY:San Glaser & Band im Grandhotel Heiligendamm
DESCRIPTION:San Glaser & Band "The Great Grand Hotel" TOUR
LOCATION:Grandhotel Heiligendamm\, Prof.-Dr.-Vogel-Str. 6\, Heiligendamm\, \, Heiligendamm
END:VEVENT
END:VCALENDAR