BEGIN:VCALENDAR
VERSION:2.0
PRODID:-//AudioTheme 1.6.3
BEGIN:VEVENT
UID:http://sanglaser.com/?post_type=audiotheme_gig&#038;p=996
URL:https://sanglaser.com/live/san-glaser-band-im-kursaal3-auf-sylt/
DTSTART;TZID=GMT:20190612T060000
SUMMARY:San Glaser & Band im Kursaal3 auf Sylt
DESCRIPTION:San Glaser & Band "The Great Grand Hotel"
LOCATION:Kursaal 3\, KURSAAL³ IM "HAUS AM KLIFF"  Strandstraße 25  \, Wenningstedt-Braderup - Sylt\, \, Germany\, 25996 
END:VEVENT
END:VCALENDAR