BEGIN:VCALENDAR
VERSION:2.0
PRODID:-//AudioTheme 1.6.3
BEGIN:VEVENT
UID:http://sanglaser.com/?post_type=audiotheme_gig&#038;p=805
URL:https://sanglaser.com/live/san-glaser-band-in-travemunde/
DTSTART;TZID=GMT:20180511T170000
SUMMARY:San Glaser Band in Travemünde
DESCRIPTION:San Glaser Band
LOCATION:Travemünder Promenadenfest\, Strandpromenade Travemünde\, Travemünde\, \, Germany
END:VEVENT
END:VCALENDAR