BEGIN:VCALENDAR
VERSION:2.0
PRODID:-//AudioTheme 1.6.3
BEGIN:VEVENT
UID:http://sanglaser.com/?post_type=audiotheme_gig&#038;p=955
URL:https://sanglaser.com/live/san-glaser-band-jazz-federation-stageclub/
DTSTART;TZID=GMT:20180925T180000
SUMMARY:San Glaser Band Jazz Federation Stageclub
DESCRIPTION:San Glaser Band "The Great Grand Hotel" Tour
LOCATION:Stage Club Hamburg\, Stresemann Straße 163  \, Hamburg\, \, Deutschland\, 22769
END:VEVENT
END:VCALENDAR