BEGIN:VCALENDAR
VERSION:2.0
PRODID:-//AudioTheme 1.6.3
BEGIN:VEVENT
UID:http://sanglaser.com/?post_type=audiotheme_gig&#038;p=1041
URL:https://sanglaser.com/live/san-glaser-band-kniestedter-kirche/
DTSTART;TZID=GMT:20190920T180000
SUMMARY:San Glaser & Band Kniestedter Kirche
DESCRIPTION:San Glaser & Band "The Great Grand Hotel" 
LOCATION:Kniestedter Kirche\, Braunschweiger Strasse 133\, Salzgitter-Bad\, \, Germany\, 38259
END:VEVENT
END:VCALENDAR