BEGIN:VCALENDAR
VERSION:2.0
PRODID:-//AudioTheme 1.6.3
BEGIN:VEVENT
UID:http://sanglaser.com/?post_type=audiotheme_gig&#038;p=1221
URL:https://sanglaser.com/live/san-glaser-band-koln/
DTSTART;TZID=GMT:20200919T180000
SUMMARY:San Glaser & Band Köln
DESCRIPTION:San Glaser & Band "The Great Grand Hotel" WIRD VERSCHOBEN!
LOCATION:Altes Pfandhaus\, Kartäuserwall 20  \, Köln\, \, Germany\, 50678
END:VEVENT
END:VCALENDAR