BEGIN:VCALENDAR
VERSION:2.0
PRODID:-//AudioTheme 1.6.3
BEGIN:VEVENT
UID:http://sanglaser.com/?post_type=audiotheme_gig&#038;p=1204
URL:https://sanglaser.com/live/san-glaser-band-mittelrhein-musik-festival/
DTSTART;TZID=GMT:20200619T180000
SUMMARY:San Glaser & Band Mittelrhein Musik festival
DESCRIPTION:San Glaser & Band "The Great Grand Hotel"   Mittelrhein Musik Festival
LOCATION:Häcker's Grandhotel\, Römerstraße 1  \, Bad Ems\, \, Germany\, 56130 
END:VEVENT
END:VCALENDAR