BEGIN:VCALENDAR
VERSION:2.0
PRODID:-//AudioTheme 1.6.3
BEGIN:VEVENT
UID:http://sanglaser.com/?post_type=audiotheme_gig&#038;p=968
URL:https://sanglaser.com/live/san-glaser-band-musiknacht-ahrensburg/
DTSTART;TZID=GMT:20190525T180000
SUMMARY:San Glaser & Band Musiknacht Ahrensburg
DESCRIPTION:San Glaser & Band Musiknacht Ahrensburg
LOCATION:Musiknacht Ahrensburg\, Ahrensburg\, \, Germany
END:VEVENT
END:VCALENDAR