BEGIN:VCALENDAR
VERSION:2.0
PRODID:-//AudioTheme 1.6.3
BEGIN:VEVENT
UID:http://sanglaser.com/?post_type=audiotheme_gig&#038;p=1038
URL:https://sanglaser.com/live/san-glaser-band-osnabruck-lagerhalle/
DTSTART;TZID=GMT:20200319T190000
SUMMARY:San Glaser & Band Osnabrück Lagerhalle
DESCRIPTION:San Glaser & Band "The Great Grand Hotel"
LOCATION:Lagerhalle\, Rolandsmauer 26  \, Osnabrück\, \, Germany\, 49074 
END:VEVENT
END:VCALENDAR