BEGIN:VCALENDAR
VERSION:2.0
PRODID:-//AudioTheme 1.6.3
BEGIN:VEVENT
UID:http://sanglaser.com/?post_type=audiotheme_gig&#038;p=783
URL:https://sanglaser.com/live/san-glaser-band-podium-lokaal/
DTSTART;TZID=GMT:20180624T140000
SUMMARY:San Glaser & Band "Podium Lokaal"
DESCRIPTION:San Glaser & Band TOUR Podium Lokaal 
LOCATION:Podium Lokaal\, Kloosterweg 17\, Sint Jansklooster\, \, Netherlands\, 8326 CA
END:VEVENT
END:VCALENDAR