BEGIN:VCALENDAR
VERSION:2.0
PRODID:-//AudioTheme 1.6.3
BEGIN:VEVENT
UID:http://sanglaser.com/?post_type=audiotheme_gig&#038;p=1219
URL:https://sanglaser.com/live/san-glaser-band-red-horn-district/
DTSTART;TZID=GMT:20200425T180000
SUMMARY:San Glaser & Band Red Horn District
DESCRIPTION:San Glaser & Band "The Great Grand Hotel"
LOCATION:Red Horn District\, Detmolder Str. 46\, Horn - Bad Meinberg\, \, Germany\, 32805 
END:VEVENT
END:VCALENDAR