BEGIN:VCALENDAR
VERSION:2.0
PRODID:-//AudioTheme 1.6.3
BEGIN:VEVENT
UID:http://sanglaser.com/?post_type=audiotheme_gig&#038;p=957
URL:https://sanglaser.com/live/san-glaser-band-reunie-aletta-jacobs-scholengemeenschap/
DTSTART;TZID=GMT:20181013T140000
SUMMARY:San Glaser Band Reunie Aletta Jacobs Scholengemeenschap
DESCRIPTION:San Glaser Band
LOCATION:Dr. Aletta Jacobs College\, Laan van de Sport 4\, Hoogezand-Sappemeer\, \, Netherlands\,  9603 TG 
END:VEVENT
END:VCALENDAR