BEGIN:VCALENDAR
VERSION:2.0
PRODID:-//AudioTheme 1.6.3
BEGIN:VEVENT
UID:http://sanglaser.com/?post_type=audiotheme_gig&#038;p=1222
URL:https://sanglaser.com/live/san-glaser-band-sol-muhlheim-an-der-ruhr/
DTSTART;TZID=GMT:20200917T180000
SUMMARY:San Glaser & Band SOL Mühlheim an der Ruhr
DESCRIPTION:San Glaser & Band "The Great Grand Hotel" WIRD VERSCHOBEN!
LOCATION:Sol Kulturbar\, Akazienallee 61\, Mülheim a.d.Ruhr\, \, Germany\, 45478 
END:VEVENT
END:VCALENDAR