BEGIN:VCALENDAR
VERSION:2.0
PRODID:-//AudioTheme 1.6.3
BEGIN:VEVENT
UID:http://sanglaser.com/?post_type=audiotheme_gig&#038;p=1048
URL:https://sanglaser.com/live/san-glaser-band-sommernachte-gromitz/
DTSTART;TZID=GMT:20190824T160000
SUMMARY:San Glaser & Band "Sommernächte" Grömitz
DESCRIPTION:San Glaser & Band "The Great Grand Hotel"
LOCATION:"Sommernächte" Grömitz\, Kurpark\, Grömitz\, \, Germany\, 23743
END:VEVENT
END:VCALENDAR