BEGIN:VCALENDAR
VERSION:2.0
PRODID:-//AudioTheme 1.6.3
BEGIN:VEVENT
UID:http://sanglaser.com/?post_type=audiotheme_gig&#038;p=810
URL:https://sanglaser.com/live/san-glaser-band-tour-fallingbostel/
DTSTART;TZID=GMT:20180421T173000
SUMMARY:San Glaser Band TOUR Fallingbostel
DESCRIPTION:San Glaser Band TOUR
LOCATION:Ratsaal Fallingbostel\, Vogteistraße 3\, Bad Fallingbostel\, \, Germany\, 29683 
END:VEVENT
END:VCALENDAR