BEGIN:VCALENDAR
VERSION:2.0
PRODID:-//AudioTheme 1.6.3
BEGIN:VEVENT
UID:http://sanglaser.com/?post_type=audiotheme_gig&#038;p=744
URL:https://sanglaser.com/live/san-glaser-band-tour-heiligendamm/
DTSTART;TZID=GMT:20180407T183000
SUMMARY:San Glaser Band TOUR Heiligendamm
DESCRIPTION:San Glaser Band TOUR
LOCATION:Grand Hotel Heiligendamm\, Prof.-Dr.-Vogel-Str. 6\, Heiligendamm\, \, Germany\, 18209
END:VEVENT
END:VCALENDAR