BEGIN:VCALENDAR
VERSION:2.0
PRODID:-//AudioTheme 1.6.3
BEGIN:VEVENT
UID:http://sanglaser.com/?post_type=audiotheme_gig&#038;p=966
URL:https://sanglaser.com/live/san-glaser-band-tresohr-sessions/
DTSTART;TZID=GMT:20190120T180000
SUMMARY:San Glaser & Band @ Tresohr Sessions
DESCRIPTION:San Glaser & Band "The Great Grand Hotel" TOUR
LOCATION:Tresohr Studios\, Mülheimer Str. 24\, Oberhausen\, \, Germany\, 46049
END:VEVENT
END:VCALENDAR