BEGIN:VCALENDAR
VERSION:2.0
PRODID:-//AudioTheme 1.6.3
BEGIN:VEVENT
UID:http://sanglaser.com/?post_type=audiotheme_gig&#038;p=1032
URL:https://sanglaser.com/live/san-glaser-band-wohnzimmer-konzert/
DTSTART;TZID=GMT:20190313T180000
SUMMARY:San Glaser & Band Wohnzimmer Konzert
DESCRIPTION:San Glaser & Band Wohnzimmer Konzert 
LOCATION:private event\, Hamburg\, \, Germany
END:VEVENT
END:VCALENDAR