BEGIN:VCALENDAR
VERSION:2.0
PRODID:-//AudioTheme 1.6.3
BEGIN:VEVENT
UID:http://sanglaser.com/?post_type=audiotheme_gig&#038;p=803
URL:https://sanglaser.com/live/san-glaser-band-zu-gast-bei-knack-den-krebs/
DTSTART;TZID=GMT:20180531T170000
SUMMARY:San Glaser & Band zu Gast bei "Knack den Krebs"
DESCRIPTION:San Glaser & Band zu Gast bei "Knack den Krebs"
LOCATION:Prinzenbar Hamburg\, Kastanienallee 20\,  Hamburg\, \, Germany\, 20359
END:VEVENT
END:VCALENDAR